BEGIN:VCALENDAR
VERSION:2.0
PRODID:-//Vince Dunn - ECPv6.15.20//NONSGML v1.0//EN
CALSCALE:GREGORIAN
METHOD:PUBLISH
X-ORIGINAL-URL:https://vincedunn.london
X-WR-CALDESC:Events for Vince Dunn
REFRESH-INTERVAL;VALUE=DURATION:PT1H
X-Robots-Tag:noindex
X-PUBLISHED-TTL:PT1H
BEGIN:VTIMEZONE
TZID:UTC
BEGIN:STANDARD
TZOFFSETFROM:+0000
TZOFFSETTO:+0000
TZNAME:UTC
DTSTART:20250101T000000
END:STANDARD
END:VTIMEZONE
BEGIN:VEVENT
DTSTART;TZID=UTC:20260531T140000
DTEND;TZID=UTC:20260531T140000
DTSTAMP:20260421T160827
CREATED:20260412T105626Z
LAST-MODIFIED:20260412T105647Z
UID:2813-1780236000-1780236000@vincedunn.london
SUMMARY:Laughter with a Swing Show
DESCRIPTION:
URL:https://vincedunn.london/upcoming-public-event/laughter-with-a-swing-show/
LOCATION:United Services Club\, 108 Main Road\, Sidcup\, Kent\, DA14 6NE
ATTACH;FMTTYPE=image/jpeg:https://vincedunn.london/wp-content/uploads/2026/04/vd_PHOTO-2026-04-12-09-28-30.jpg
END:VEVENT
END:VCALENDAR