BEGIN:VCALENDAR
VERSION:2.0
PRODID:-//Vince Dunn - ECPv6.15.20//NONSGML v1.0//EN
CALSCALE:GREGORIAN
METHOD:PUBLISH
X-WR-CALNAME:Vince Dunn
X-ORIGINAL-URL:https://vincedunn.london
X-WR-CALDESC:Events for Vince Dunn
REFRESH-INTERVAL;VALUE=DURATION:PT1H
X-Robots-Tag:noindex
X-PUBLISHED-TTL:PT1H
BEGIN:VTIMEZONE
TZID:UTC
BEGIN:STANDARD
TZOFFSETFROM:+0000
TZOFFSETTO:+0000
TZNAME:UTC
DTSTART:20250101T000000
END:STANDARD
END:VTIMEZONE
BEGIN:VEVENT
DTSTART;VALUE=DATE:20260803
DTEND;VALUE=DATE:20260808
DTSTAMP:20260421T192044
CREATED:20260316T142652Z
LAST-MODIFIED:20260316T142652Z
UID:2805-1785715200-1786147199@vincedunn.london
SUMMARY:Freddie Gee Drum Academy & Drumming Holiday 2026
DESCRIPTION:
URL:https://vincedunn.london/upcoming-public-event/freddie-gee-drum-academy-drumming-holiday-2026/
LOCATION:Sparsholte College\, Winchester
ATTACH;FMTTYPE=image/jpeg:https://vincedunn.london/wp-content/uploads/2026/03/vdFGDA-2026.jpg
ORGANIZER;CN="Freddie Gee":MAILTO:freddiegee794@gmail.com
END:VEVENT
END:VCALENDAR