BEGIN:VCALENDAR
VERSION:2.0
PRODID:-//Vince Dunn - ECPv6.15.20//NONSGML v1.0//EN
CALSCALE:GREGORIAN
METHOD:PUBLISH
X-WR-CALNAME:Vince Dunn
X-ORIGINAL-URL:https://vincedunn.london
X-WR-CALDESC:Events for Vince Dunn
REFRESH-INTERVAL;VALUE=DURATION:PT1H
X-Robots-Tag:noindex
X-PUBLISHED-TTL:PT1H
BEGIN:VTIMEZONE
TZID:UTC
BEGIN:STANDARD
TZOFFSETFROM:+0000
TZOFFSETTO:+0000
TZNAME:UTC
DTSTART:20160101T000000
END:STANDARD
END:VTIMEZONE
BEGIN:VEVENT
DTSTART;TZID=UTC:20170812T140000
DTEND;TZID=UTC:20170812T140000
DTSTAMP:20260420T083912
CREATED:20170508T122129Z
LAST-MODIFIED:20170513T135620Z
UID:1157-1502546400-1502546400@vincedunn.london
SUMMARY:Madness @ Kent Country Show Ground
DESCRIPTION:
URL:https://vincedunn.london/upcoming-public-event/madness-kent-country-show-ground-12th-aug-2017/
LOCATION:Kent County Show Ground\, Detling\, Maidstone\, ME14 3JF\, United Kingdom
CATEGORIES:Kent County Show Ground,The Aim
ATTACH;FMTTYPE=image/jpeg:https://vincedunn.london/wp-content/uploads/2017/05/The-Aim-Kent-Show-Ground.jpg
END:VEVENT
END:VCALENDAR